BEGIN:VCALENDAR
VERSION:2.0
PRODID:-//wp-events-plugin.com//7.2.3.1//EN
TZID:Europe/Stockholm
X-WR-TIMEZONE:Europe/Stockholm
BEGIN:VEVENT
UID:6@laparoskopi.nu
DTSTART;TZID=Europe/Stockholm;VALUE=DATE:20240311
DTEND;TZID=Europe/Stockholm;VALUE=DATE:20240313
DTSTAMP:20240201T215330Z
URL:https://www.laparoskopi.nu/event/svensk-masterclass-i-avancerad-bukvag
 gskirurgi/
SUMMARY:Svensk masterclass i avancerad bukväggskirurgi
DESCRIPTION:Introduktion och Syfte\n\nKursen är speciellt utformad för at
 t samla erfarna kirurger som önskar öka sin färdighet\noch kunskap i de
  tekniker som idag används inom avancerad bukväggskirurgi.\nSyfte med Ma
 sterclasskursen är att:\n\n• Deltagande kirurg skall förfina sin tekni
 k genom teoretisk genomgång av\ntillgängliga metoder enligt ”state-of-
 the-art” samt praktisk träning med\nanatomisk ändamålsenlig dissektio
 n och nätplacering på donerad kropp\, sk\nkadaverdissektion.\n\n• Disk
 utera och dela erfarenheter gällande patienturval\, riskfaktorhantering o
 ch\npre- respektive postoperativ uppföljning\n\n• Få en överblick öv
 er EHS (European Hernia Society)-guidelines och\nvetenskaplig evidens krin
 g bukväggsbråckproblematik.\n\n• Diskussion kring fall\, preoperativ u
 tredningsväg och preoperativa åtgärder för\natt nå beslut om bästa b
 ehandlingsalternativet.\n\n• Få insikt i hur olika patientfaktorer kan 
 avgöra olika terapeutiska val.\n\n• Lära sig hantera svåra scenarier 
 och förstå hur potentiella komplikationer kan\nuppkomma och hur de skall
  handläggas.\n\n• Få kunskap kring moderna syntetiska nät och fixatio
 nstekniker för att\nåstadkomma biologiskt mest optimala resultatet vid b
 råckkirurgi.\n\n• Genomgång\, steg-för-steg\, praktisk träning samt 
 tekniska tips för följande\nbukväggskirurgiska ingrepp:\n\n• Endoskop
 isk Komponentseparation\n\n• eTEP\n\n• Ventral Patch\n\n• Rives-Stop
 pa\n\n• TAR (Transversus Abdominis Release)\n\n&nbsp\;\n\nLäs mer här:
  PDF Inbjudan och Program. Kurs Avancerad bukväggskirurgi 11-12 mars_2024
LOCATION:Kirurgiskt anatomiskt träningscenter\, Medicinareberget\, Götebo
 rg\, Sverige
X-APPLE-STRUCTURED-LOCATION;VALUE=URI;X-ADDRESS=Medicinareberget\, Götebor
 g\, Sverige;X-APPLE-RADIUS=100;X-TITLE=Kirurgiskt anatomiskt träningscent
 er:geo:0,0
END:VEVENT
BEGIN:VTIMEZONE
TZID:Europe/Stockholm
X-LIC-LOCATION:Europe/Stockholm
BEGIN:STANDARD
DTSTART:20231029T020000
TZOFFSETFROM:+0200
TZOFFSETTO:+0100
TZNAME:CET
END:STANDARD
END:VTIMEZONE
END:VCALENDAR