BEGIN:VCALENDAR
VERSION:2.0
PRODID:-//wp-events-plugin.com//7.2.3.1//EN
TZID:Europe/Stockholm
X-WR-TIMEZONE:Europe/Stockholm
BEGIN:VEVENT
UID:8@laparoskopi.nu
DTSTART;TZID=Europe/Stockholm;VALUE=DATE:20250203
DTEND;TZID=Europe/Stockholm;VALUE=DATE:20250206
DTSTAMP:20241001T064212Z
URL:https://www.laparoskopi.nu/event/nationell-kurs-i-tep-tapp-kungsbacka-
 sjukhus-3-5-2-2025-fullbokad/
SUMMARY:Nationell Kurs i TEP/TAPP Kungsbacka sjukhus 3-5/2 2025 (Fullbokad)
DESCRIPTION:(Denna kursen är fullbokad)\n\nKirurgkliniken på Hallands Sju
 khus Kungsbacka har glädjen att bjuda in till en högkvalitativ och speci
 aliserad utbildning för dig som är erfaren ST-läkare eller specialist o
 ch vill fördjupa eller påbörja din kompetens inom laparo/endoskopisk lj
 umskbråckskirurgi.\n\nDen nationella kursen i TEP/TAPP teknik kommer att 
 äga rum den 3–5 februari 2025 på Hallands Sjukhus Kungsbacka och erbju
 der en unik möjlighet att kombinera teoretisk kunskap med praktisk tillä
 mpning under handledning av erfarna kollegor.\nVad kan du förvänta dig?\
 nUnder kursen kommer du att delta i både operationer\, diskussioner och f
 öreläsningar som täcker en rad relevanta ämnen:\n\n 	Anatomi\n 	Indika
 tioner för kirurgi enligt World Guidelines for Groin Hernia Management\n 
 	Kirurgisk teknik\n 	Komplikationer samt genomgång av material och instru
 ment\n\nFöreläsare\nVi har samlat ett team av erfarna överläkare för 
 att leda kursen\, inklusive:\n\n 	Jukka Ahonen\n 	Asghar Azadani\n 	Dorin 
 Eugen Popa\n 	Kristina Ticehurst\n 	Fernando Ruiz Jasbon\n\nPraktisk infor
 mation\n\n 	Kursdatum: 3–5 februari 2025\n 	Plats: Hallands Sjukhus Kung
 sbacka\n 	Målgrupp: Erfarna ST-läkare och specialister\n 	Kursavgift:\n\
 n 	SIKT-medlemmar: 5300 kr + moms\n 	Övriga: 6400 kr + moms\n\n\n 	I kurs
 avgiften ingår: Kursmaterial\, kaffe\, lunch och kursmiddagar.\n\nAnmäla
 n\nSista anmälningsdag är 13 december 2024. Missa inte denna möjlighet 
 att fördjupa dina kirurgiska kunskaper och nätverka med kollegor från h
 ela landet!\n\nFör mer information och anmälan\, vänligen kontakta oss 
 via fernando.ruizjasbon@regionhalland.se\n\nVi ser fram emot att välkomna
  dig till en lärorik och givande kurs på Hallands Sjukhus Kungsbacka!
LOCATION:Kungsbacka sjukhus\, Kungsbacka sjukhus\, Kungsbacka\, Sverige
X-APPLE-STRUCTURED-LOCATION;VALUE=URI;X-ADDRESS=Kungsbacka sjukhus\, Kungsb
 acka\, Sverige;X-APPLE-RADIUS=100;X-TITLE=Kungsbacka sjukhus:geo:0,0
END:VEVENT
BEGIN:VTIMEZONE
TZID:Europe/Stockholm
X-LIC-LOCATION:Europe/Stockholm
BEGIN:STANDARD
DTSTART:20241027T020000
TZOFFSETFROM:+0200
TZOFFSETTO:+0100
TZNAME:CET
END:STANDARD
END:VTIMEZONE
END:VCALENDAR