BEGIN:VCALENDAR
VERSION:2.0
PRODID:-//wp-events-plugin.com//7.2.3.1//EN
TZID:Europe/Stockholm
X-WR-TIMEZONE:Europe/Stockholm
BEGIN:VEVENT
UID:7@laparoskopi.nu
DTSTART;TZID=Europe/Stockholm;VALUE=DATE:20241125
DTEND;TZID=Europe/Stockholm;VALUE=DATE:20241127
DTSTAMP:20240610T203951Z
URL:https://www.laparoskopi.nu/event/acute-care-surgery-course-linkoping-n
 ovember-2024/
SUMMARY:Acute Care Surgery Course Linköping\, November 2024
DESCRIPTION:Kära kollegor\,\n\nNu den 25-26/11 organiserar vi den tredje u
 pplagan av Acute Care Surgery kursen i Linköping. Den har både teoretisk
 a men också hands-on-moment. Tre internationella gäster samt lokala expe
 rter. Intuberade grisar med möjlighet att träna olika laparoskopiska tek
 niker bla ICG (Olympus och Aesculap)\, sutur\, anastomoser\, resektioner\,
  laparoskopisk dissektion\, laparoskopisk haemostas (Baxter) samt high-end
  instrument – Ligasure\, ThunderBeat\, Powerseal\, staplers (Aesculap\, 
 Medtronic)\n\nMålgrupp – ST samt specialister inom kirurgi.\n\nDatum 
 – 25-26 November 2024\n\nAvgift – 20 000 sek\n\nMail för anmälningar
  – popa.dorin.eugen@gmail.com
END:VEVENT
BEGIN:VTIMEZONE
TZID:Europe/Stockholm
X-LIC-LOCATION:Europe/Stockholm
BEGIN:STANDARD
DTSTART:20241027T020000
TZOFFSETFROM:+0200
TZOFFSETTO:+0100
TZNAME:CET
END:STANDARD
END:VTIMEZONE
END:VCALENDAR